BEGIN:VCALENDAR
VERSION:2.0
PRODID:-//wp-events-plugin.com//7.2.3.1//EN
TZID:Europe/Paris
X-WR-TIMEZONE:Europe/Paris
BEGIN:VEVENT
UID:12-327@conservatoire.yvetot-normandie.fr
DTSTART;TZID=Europe/Paris:20250612T190000
DTEND;TZID=Europe/Paris:20250612T203000
DTSTAMP:20250513T153216Z
URL:https://conservatoire.yvetot-normandie.fr/evenement/apero-concert/
SUMMARY:Apéro Concert
DESCRIPTION:Composé de musiciens amateurs éclairés et passionnés de jaz
 z\, le big-band du conservatoire Yvetot Normandie rayonne sur le territoir
 e Normand depuis plus de 20 ans maintenant.\n\nFormation d’excellence du
  conservatoire\, formation par essence pédagogique\, le Big-band a vocati
 on dans ses missions\, de former les jeunes élèves ayant déjà un excel
 lent niveau de pratique instrumentale.\n\nJeunes élèves désireux de pra
 tiquer et faire fructifier leurs connaissances musicales et leur niveau de
  pratique individuelle en ensemble de jazz.\n\nGrace à une approche écle
 ctique dans son répertoire\, le big-band propose une découverte des diff
 érents styles et esthétiques qui composent le répertoire du Jazz.\n\nCe
  voyage musical\, permet à tout un chacun de découvrir ou de redécouvri
 r les morceaux tant entendus mais\, paradoxalement\, parfois tant méconnu
 s du répertoire Jazz.\n\nDes standards du swing au jazz rock\, en passant
  par le funk\, les musiques latines mais aussi les grands standards du ré
 pertoire vocal\, le public découvre toute l’étendue qu’il est possib
 le de jouer dans une grande formation jazz comme le big-band.\n\nCe qui fa
 it la longévité de cet ensemble est notamment son caractère intergéné
 rationnel\, son approche à la fois exigeante mais bienveillante\, où cha
 cun trouve sa place et s’épanouit musicalement dans la bonne humeur\, l
 e tout\, placé sous la baguette d’Arnaud Baligout.\n\nLe concert est gr
 atuit et sans réservation.
ATTACH;FMTTYPE=image/jpeg:https://www.yvetot-normandie.fr/wp-content/uploa
 ds/sites/12/2025/05/DSC02353-scaled.jpg
CATEGORIES:Conservatoire
LOCATION:Salle polyvalente\, Centre Bourg Auzebosc\, 76190 Auzebosc\, Seine
  Maritime \, 76190\, Normandie\, France
X-APPLE-STRUCTURED-LOCATION;VALUE=URI;X-ADDRESS=Centre Bourg Auzebosc\, 761
 90 Auzebosc\, Seine Maritime \, 76190\, Normandie\, France;X-APPLE-RADIUS=
 100;X-TITLE=Salle polyvalente:geo:0,0
END:VEVENT
BEGIN:VTIMEZONE
TZID:Europe/Paris
X-LIC-LOCATION:Europe/Paris
BEGIN:DAYLIGHT
DTSTART:20250330T030000
TZOFFSETFROM:+0100
TZOFFSETTO:+0200
TZNAME:CEST
END:DAYLIGHT
END:VTIMEZONE
END:VCALENDAR