BEGIN:VCALENDAR
VERSION:2.0
PRODID:-//wp-events-plugin.com//7.2.3.1//EN
TZID:Europe/Paris
X-WR-TIMEZONE:Europe/Paris
BEGIN:VEVENT
UID:12-333@conservatoire.yvetot-normandie.fr
DTSTART;TZID=Europe/Paris:20250623T180000
DTEND;TZID=Europe/Paris:20250623T190000
DTSTAMP:20250602T094816Z
URL:https://conservatoire.yvetot-normandie.fr/evenement/audition-de-piano-
 et-trompette/
SUMMARY:Audition de piano et trompette
DESCRIPTION:Le Conservatoire Yvetot Normandie vous invite à une audition r
 éunissant les classes de trompette et de piano.\nAu programme :\n1ère pa
 rtie – En plein air (devant le conservatoire\, si le temps le permet)La 
 classe de trompette vous proposera un voyage musical à travers les époqu
 es\, avec notamment :\n\n\n 	\nSonate (Fanfare) pour trompette – Cesare 
 Bendinelli (fin du XVIIe siècle\, époque baroque)\n\n 	\nThe Earl of Oxf
 ord's March – William Byrd (époque baroque)\n\n 	\nLeise\, Leise – Ca
 rl Maria von Weber (extrait de l’opéra Le Freischütz\, période romant
 ique)\n\n\n2e partie – Dans l’auditoriumAccompagnés par la classe de 
 piano\, les élèves vous feront découvrir des œuvres plus modernes\, te
 lles que :\n\n\n 	\nThe Lonely Bull – Sol Lake\n\n 	\nJava – Arrangeme
 nt de Paul Murtha\n\n\nLe concert est gratuit et sans réservation
ATTACH;FMTTYPE=image/jpeg:https://www.yvetot-normandie.fr/wp-content/uploa
 ds/sites/12/2025/05/piano-trompette.webp
CATEGORIES:Conservatoire
LOCATION:Conservatoire Yvetot Normandie\, Rue Pierre de Coubertin\, Yvetot\
 , France\, 76190\, Normandie\, France
X-APPLE-STRUCTURED-LOCATION;VALUE=URI;X-ADDRESS=Rue Pierre de Coubertin\, Y
 vetot\, France\, 76190\, Normandie\, France;X-APPLE-RADIUS=100;X-TITLE=Con
 servatoire Yvetot Normandie:geo:0,0
END:VEVENT
BEGIN:VTIMEZONE
TZID:Europe/Paris
X-LIC-LOCATION:Europe/Paris
BEGIN:DAYLIGHT
DTSTART:20250330T030000
TZOFFSETFROM:+0100
TZOFFSETTO:+0200
TZNAME:CEST
END:DAYLIGHT
END:VTIMEZONE
END:VCALENDAR