BEGIN:VCALENDAR
VERSION:2.0
PRODID:-//wp-events-plugin.com//7.2.3.1//EN
TZID:Europe/Paris
X-WR-TIMEZONE:Europe/Paris
BEGIN:VEVENT
UID:12-331@conservatoire.yvetot-normandie.fr
DTSTART;TZID=Europe/Paris:20250621T180000
DTEND;TZID=Europe/Paris:20250621T190000
DTSTAMP:20250526T163019Z
URL:https://conservatoire.yvetot-normandie.fr/evenement/audition-hautbois/
SUMMARY:Audition hautbois
DESCRIPTION:Les élèves de 1er cycle du conservatoire de Yvetot Normandie 
 participent à une audition en collaboration avec les classes de hautbois 
 des conservatoires de Notre-Dame-de-Gravenchon et de Saint-Valery-en-Caux.
 \nCe rapprochement entre établissements permet aux jeunes musiciens de d
 évelopper leur écoute\, d’apprendre à jouer en ensemble\, et de s’e
 nrichir au contact de différentes approches pédagogiques de l’instrume
 nt.\nUne belle occasion de progresser tout en partageant un moment convivi
 al autour de la musique.\nConcert gratuit et sans réservation.
ATTACH;FMTTYPE=image/jpeg:https://www.yvetot-normandie.fr/wp-content/uploa
 ds/sites/12/2025/02/DSC03166-scaled.jpg
CATEGORIES:Conservatoire
LOCATION:Conservatoire Yvetot Normandie\, Rue Pierre de Coubertin\, Yvetot\
 , France\, 76190\, Normandie\, France
X-APPLE-STRUCTURED-LOCATION;VALUE=URI;X-ADDRESS=Rue Pierre de Coubertin\, Y
 vetot\, France\, 76190\, Normandie\, France;X-APPLE-RADIUS=100;X-TITLE=Con
 servatoire Yvetot Normandie:geo:0,0
END:VEVENT
BEGIN:VTIMEZONE
TZID:Europe/Paris
X-LIC-LOCATION:Europe/Paris
BEGIN:DAYLIGHT
DTSTART:20250330T030000
TZOFFSETFROM:+0100
TZOFFSETTO:+0200
TZNAME:CEST
END:DAYLIGHT
END:VTIMEZONE
END:VCALENDAR