BEGIN:VCALENDAR
VERSION:2.0
PRODID:-//wp-events-plugin.com//7.2.3.1//EN
TZID:Europe/Paris
X-WR-TIMEZONE:Europe/Paris
BEGIN:VEVENT
UID:12-57@conservatoire.yvetot-normandie.fr
DTSTART;TZID=Europe/Paris:20250301T183000
DTEND;TZID=Europe/Paris:20250301T200000
DTSTAMP:20250225T090620Z
URL:https://conservatoire.yvetot-normandie.fr/evenement/boutons-et-bretell
 es/
SUMMARY:Boutons et Bretelles
DESCRIPTION:Boutons et Bretelles : samedi 1er mars 2025\, 18h30 au conserva
 toire\,\n\nDeux accordéonistes\, amis de longue date et ayant des goûts 
 musicaux et une vision de la musique identiques\, vous feront voyager\, le
  temps d’une soirée\, de la chanson au rock\, du classique au jazz en p
 assant par des compositions. Un duo d’accordéons sans restriction de r
 épertoire avec l’envie de créer des ponts entre toutes les musiques.\n
 \nConcert payant :\n\nTarif élève :                        
  3\,00 €\nTarif plein :                         6\,00 €\
 nTarif moins de 18 ans :   3\,50 €\n\nLe concert se déroulera dans l'
 auditorium\, ouverture des portes à 18 h 00.\n\nLes billets seront à r
 etirer le soir du concert à partir de 18 h 00 ou à partir du mardi 25
  février 2025 aux jours et horaires d'ouverture du secrétariat.\n\nAucu
 ne réservation ne pourra être effectuée par téléphone ou mail.
ATTACH;FMTTYPE=image/jpeg:https://www.yvetot-normandie.fr/wp-content/uploa
 ds/sites/12/2024/10/boutonsetbretelles.jpg
CATEGORIES:Conservatoire
LOCATION:Conservatoire de Musique Intercommunal Yvetot Normandie\, 13\, rue
  Pierre de Coubertin \, Yvetot \, Seine maritime\, 76190\, Normandie\, Fra
 nce
X-APPLE-STRUCTURED-LOCATION;VALUE=URI;X-ADDRESS=13\, rue Pierre de Couberti
 n \, Yvetot \, Seine maritime\, 76190\, Normandie\, France;X-APPLE-RADIUS=
 100;X-TITLE=Conservatoire de Musique Intercommunal Yvetot Normandie:geo:0,
 0
END:VEVENT
BEGIN:VTIMEZONE
TZID:Europe/Paris
X-LIC-LOCATION:Europe/Paris
BEGIN:STANDARD
DTSTART:20241027T020000
TZOFFSETFROM:+0200
TZOFFSETTO:+0100
TZNAME:CET
END:STANDARD
END:VTIMEZONE
END:VCALENDAR