BEGIN:VCALENDAR
VERSION:2.0
PRODID:-//wp-events-plugin.com//7.2.3.1//EN
TZID:Europe/Paris
X-WR-TIMEZONE:Europe/Paris
BEGIN:VEVENT
UID:12-344@conservatoire.yvetot-normandie.fr
DTSTART;TZID=Europe/Paris:20251207T150000
DTEND;TZID=Europe/Paris:20251207T160000
DTSTAMP:20250813T083706Z
URL:https://conservatoire.yvetot-normandie.fr/evenement/ceremonie-concert-
 de-la-cham-2/
SUMMARY:Cérémonie/Concert de la CHAM
DESCRIPTION:Plongez dans l’univers musical de la CHAM de Seine-Maritime !
 Tout au long de l’année\, les élèves du collège Albert Camus\, de la
  6ᵉ à la 3ᵉ\, vous invitent à partager leur passion à travers des c
 oncerts mêlant énergie\, émotion et talent.\nLa prestation se dérouler
 a au sein de l’église de Saint Laurent en Caux.
ATTACH;FMTTYPE=image/jpeg:https://www.yvetot-normandie.fr/wp-content/uploa
 ds/sites/12/2025/08/Cham-1.jpg
CATEGORIES:Conservatoire
END:VEVENT
BEGIN:VTIMEZONE
TZID:Europe/Paris
X-LIC-LOCATION:Europe/Paris
BEGIN:STANDARD
DTSTART:20251026T020000
TZOFFSETFROM:+0200
TZOFFSETTO:+0100
TZNAME:CET
END:STANDARD
END:VTIMEZONE
END:VCALENDAR