BEGIN:VCALENDAR
VERSION:2.0
PRODID:-//wp-events-plugin.com//7.2.3.1//EN
TZID:Europe/Paris
X-WR-TIMEZONE:Europe/Paris
BEGIN:VEVENT
UID:12-352@conservatoire.yvetot-normandie.fr
DTSTART;TZID=Europe/Paris:20250508T110000
DTEND;TZID=Europe/Paris:20250508T120000
DTSTAMP:20250813T094639Z
URL:https://conservatoire.yvetot-normandie.fr/evenement/ceremonie-concert-
 de-la-cham-3/
SUMMARY:Cérémonie/Concert de la CHAM
DESCRIPTION:À l’occasion de la commémoration du 8 mai\, la CHAM de Sein
 e-Maritime participera à la cérémonie officielle de la ville de Yvetot.
 \nLes élèves du collège Albert Camus\, de la 6ᵉ à la 3ᵉ\, feront r
 ésonner leurs voix pour rendre hommage\, en musique\, à celles et ceux q
 ui ont combattu pour la liberté.\nUn moment solennel et émouvant à part
 ager au sein de l’Hôtel de Ville de Yvetot.
ATTACH;FMTTYPE=image/jpeg:https://www.yvetot-normandie.fr/wp-content/uploa
 ds/sites/12/2025/08/Cham-1.jpg
CATEGORIES:Conservatoire
LOCATION:Hôtel de Ville Yvetot\, Place de l'hôtel de Ville \, 76190 Yveto
 t\, Seine Maritime\, 76190\, Normandie\, France
X-APPLE-STRUCTURED-LOCATION;VALUE=URI;X-ADDRESS=Place de l'hôtel de Ville 
 \, 76190 Yvetot\, Seine Maritime\, 76190\, Normandie\, France;X-APPLE-RADI
 US=100;X-TITLE=Hôtel de Ville Yvetot:geo:0,0
END:VEVENT
BEGIN:VTIMEZONE
TZID:Europe/Paris
X-LIC-LOCATION:Europe/Paris
BEGIN:DAYLIGHT
DTSTART:20250330T030000
TZOFFSETFROM:+0100
TZOFFSETTO:+0200
TZNAME:CEST
END:DAYLIGHT
END:VTIMEZONE
END:VCALENDAR