BEGIN:VCALENDAR
VERSION:2.0
PRODID:-//wp-events-plugin.com//7.2.3.1//EN
TZID:Europe/Paris
X-WR-TIMEZONE:Europe/Paris
BEGIN:VEVENT
UID:12-356@conservatoire.yvetot-normandie.fr
DTSTART;TZID=Europe/Paris:20251202T180000
DTEND;TZID=Europe/Paris:20251202T190000
DTSTAMP:20250813T152423Z
URL:https://conservatoire.yvetot-normandie.fr/evenement/ceremonie-concert-
 de-la-cham-4/
SUMMARY:Cérémonie/Concert de la CHAM
DESCRIPTION:Plongez dans l’univers musical de la CHAM de Seine-Maritime !
 Tout au long de l’année\, les élèves du collège Albert Camus\, de la
  6ᵉ à la 3ᵉ\, vous invitent à partager leur passion à travers des c
 oncerts mêlant énergie\, émotion et talent.\nLa prestation se dérouler
 a au sein de la Salle du vieux Moulin à Yvetot.
ATTACH;FMTTYPE=image/jpeg:https://www.yvetot-normandie.fr/wp-content/uploa
 ds/sites/12/2025/08/Cham-3.jpg
CATEGORIES:Conservatoire
LOCATION:Salle du vieux moulin\, 49 Rue de l'étang\, 76190 Yvetot\, Seine 
 Maritime \, 76190\, Normandie\, France
X-APPLE-STRUCTURED-LOCATION;VALUE=URI;X-ADDRESS=49 Rue de l'étang\, 76190 
 Yvetot\, Seine Maritime \, 76190\, Normandie\, France;X-APPLE-RADIUS=100;X
 -TITLE=Salle du vieux moulin:geo:0,0
END:VEVENT
BEGIN:VTIMEZONE
TZID:Europe/Paris
X-LIC-LOCATION:Europe/Paris
BEGIN:STANDARD
DTSTART:20251026T020000
TZOFFSETFROM:+0200
TZOFFSETTO:+0100
TZNAME:CET
END:STANDARD
END:VTIMEZONE
END:VCALENDAR