BEGIN:VCALENDAR
VERSION:2.0
PRODID:-//wp-events-plugin.com//7.2.3.1//EN
TZID:Europe/Paris
X-WR-TIMEZONE:Europe/Paris
BEGIN:VEVENT
UID:12-58@conservatoire.yvetot-normandie.fr
DTSTART;TZID=Europe/Paris:20250426T183000
DTEND;TZID=Europe/Paris:20250426T200000
DTSTAMP:20250328T135703Z
URL:https://conservatoire.yvetot-normandie.fr/evenement/cheyenne/
SUMMARY:Cheyenne
DESCRIPTION:Cheyenne : samedi 26 avril 2025\, 18h30 au conservatoire\,\n\n
 &nbsp\;\n\nDemi-finaliste de la Saison 9 de « The Voice » en 2020\, Chey
 enne possède un timbre de voix unique et une énergie débordante. Elle s
 e promène avec aisance et bonheur dans le répertoire de la chanson fran
 çaise\, Johnny Hallyday\, France Gall\, Ed Sheran\, Adèle… mais aussi 
 dans le répertoire international\, Michaël Jackson\, Queen\, Céline Dio
 n…\n\nConcert payant :\n\nTarif élève :                    
      3\,00 €\nTarif plein :                         6\,0
 0 €\nTarif moins de 18 ans :   3\,50 €\n\nLe concert se déroulera d
 ans l'auditorium\, ouverture des portes à 18 h 00.\n\nLes billets seron
 t à retirer le soir du concert à partir de 18 h 00 ou à partir du mardi
  23 avril 2025 aux jours et horaires d'ouverture du secrétariat.\n\nAucun
 e réservation ne pourra être effectuée par téléphone ou mail.\n\nCré
 dit photo : Paris-Normandie
ATTACH;FMTTYPE=image/jpeg:https://www.yvetot-normandie.fr/wp-content/uploa
 ds/sites/12/2024/10/cheyenne_the_voice.jpg
CATEGORIES:Conservatoire
END:VEVENT
BEGIN:VTIMEZONE
TZID:Europe/Paris
X-LIC-LOCATION:Europe/Paris
BEGIN:DAYLIGHT
DTSTART:20250330T030000
TZOFFSETFROM:+0100
TZOFFSETTO:+0200
TZNAME:CEST
END:DAYLIGHT
END:VTIMEZONE
END:VCALENDAR