BEGIN:VCALENDAR
VERSION:2.0
PRODID:-//wp-events-plugin.com//7.2.3.1//EN
TZID:Europe/Paris
X-WR-TIMEZONE:Europe/Paris
BEGIN:VEVENT
UID:12-59@conservatoire.yvetot-normandie.fr
DTSTART;TZID=Europe/Paris:20250626T190000
DTEND;TZID=Europe/Paris:20250626T213000
DTSTAMP:20250527T131440Z
URL:https://conservatoire.yvetot-normandie.fr/evenement/concert-de-fin-dan
 nee-de-la-classe-de-percussions/
SUMMARY:Concert de fin d’année de la classe de Percussions
DESCRIPTION:Les classes de percussions vous invitent à un moment musical h
 aut en couleurs. De La Bicyclette d’Yves Montand aux pièces les plus co
 ntemporaines\, cette audition vous fera découvrir toute la richesse et la
  diversité de l’univers percussif.\nAu programme : des œuvres aux ryth
 mes percutants et aux sonorités envoûtantes\, avec des clins d’œil à
  des artistes aussi variés que David Bowie\, Jean-Sébastien Bach\, Eric 
 Sammut ou encore Walter Martens.\nConcert gratuit et sans réservation !\n
 &nbsp\;
ATTACH;FMTTYPE=image/jpeg:https://www.yvetot-normandie.fr/wp-content/uploa
 ds/sites/12/2024/10/DSC03137-scaled.jpg
CATEGORIES:Conservatoire
LOCATION:Conservatoire de Musique Intercommunal Yvetot Normandie\, 13\, rue
  Pierre de Coubertin \, Yvetot \, Seine maritime\, 76190\, Normandie\, Fra
 nce
X-APPLE-STRUCTURED-LOCATION;VALUE=URI;X-ADDRESS=13\, rue Pierre de Couberti
 n \, Yvetot \, Seine maritime\, 76190\, Normandie\, France;X-APPLE-RADIUS=
 100;X-TITLE=Conservatoire de Musique Intercommunal Yvetot Normandie:geo:0,
 0
END:VEVENT
BEGIN:VTIMEZONE
TZID:Europe/Paris
X-LIC-LOCATION:Europe/Paris
BEGIN:DAYLIGHT
DTSTART:20250330T030000
TZOFFSETFROM:+0100
TZOFFSETTO:+0200
TZNAME:CEST
END:DAYLIGHT
END:VTIMEZONE
END:VCALENDAR