BEGIN:VCALENDAR
VERSION:2.0
PRODID:-//wp-events-plugin.com//7.2.3.1//EN
TZID:Europe/Paris
X-WR-TIMEZONE:Europe/Paris
BEGIN:VEVENT
UID:12-347@conservatoire.yvetot-normandie.fr
DTSTART;TZID=Europe/Paris:20260207T200000
DTEND;TZID=Europe/Paris:20260207T213000
DTSTAMP:20250813T090233Z
URL:https://conservatoire.yvetot-normandie.fr/evenement/concert-de-la-cham
 -2/
SUMMARY:Concert de la CHAM
DESCRIPTION:Plongez dans l’univers musical de la CHAM de Seine-Maritime !
 Tout au long de l’année\, les élèves du collège Albert Camus\, de la
  6ᵉ à la 3ᵉ\, vous invitent à partager leur passion à travers des c
 oncerts mêlant énergie\, émotion et talent.\n\nLa prestation se déroul
 era au sein de l’Eglise d'Allouville-Bellfosse.
ATTACH;FMTTYPE=image/jpeg:https://www.yvetot-normandie.fr/wp-content/uploa
 ds/sites/12/2025/08/Cham-1.jpg
CATEGORIES:Conservatoire
LOCATION:Eglise Saint Quentin\, 1 rue du Dr Pâtenotre\, Allouville Bellfos
 se\, Seine Maritime\, 76190\, Normandie\, France
X-APPLE-STRUCTURED-LOCATION;VALUE=URI;X-ADDRESS=1 rue du Dr Pâtenotre\, Al
 louville Bellfosse\, Seine Maritime\, 76190\, Normandie\, France;X-APPLE-R
 ADIUS=100;X-TITLE=Eglise Saint Quentin:geo:0,0
END:VEVENT
BEGIN:VTIMEZONE
TZID:Europe/Paris
X-LIC-LOCATION:Europe/Paris
BEGIN:STANDARD
DTSTART:20251026T020000
TZOFFSETFROM:+0200
TZOFFSETTO:+0100
TZNAME:CET
END:STANDARD
END:VTIMEZONE
END:VCALENDAR