BEGIN:VCALENDAR
VERSION:2.0
PRODID:-//wp-events-plugin.com//7.2.3.1//EN
TZID:Europe/Paris
X-WR-TIMEZONE:Europe/Paris
BEGIN:VEVENT
UID:12-349@conservatoire.yvetot-normandie.fr
DTSTART;TZID=Europe/Paris:20260314T200000
DTEND;TZID=Europe/Paris:20260314T213000
DTSTAMP:20250813T093846Z
URL:https://conservatoire.yvetot-normandie.fr/evenement/concert-de-la-cham
 -3/
SUMMARY:Concert de la CHAM
DESCRIPTION:Plongez dans l’univers musical de la CHAM de Seine-Maritime !
 \nTout au long de l’année\, les élèves du collège Albert Camus\, de 
 la 6ᵉ à la 3ᵉ\, vous invitent à partager leur passion à travers des
  concerts mêlant énergie\, émotion et talent.\n\nLa prestation se déro
 ulera au sein de l’Hôtel de Ville de Yvetot.
ATTACH;FMTTYPE=image/jpeg:https://www.yvetot-normandie.fr/wp-content/uploa
 ds/sites/12/2025/08/Cham-3.jpg
CATEGORIES:Conservatoire
LOCATION:Eglise Notre Dame de Valliquerville\, 100 Rue de l'Église\, Valli
 querville\, Seine Maritime\, 76190\, Normandie\, France
X-APPLE-STRUCTURED-LOCATION;VALUE=URI;X-ADDRESS=100 Rue de l'Église\, Vall
 iquerville\, Seine Maritime\, 76190\, Normandie\, France;X-APPLE-RADIUS=10
 0;X-TITLE=Eglise Notre Dame de Valliquerville:geo:0,0
END:VEVENT
BEGIN:VTIMEZONE
TZID:Europe/Paris
X-LIC-LOCATION:Europe/Paris
BEGIN:STANDARD
DTSTART:20251026T020000
TZOFFSETFROM:+0200
TZOFFSETTO:+0100
TZNAME:CET
END:STANDARD
END:VTIMEZONE
END:VCALENDAR