BEGIN:VCALENDAR
VERSION:2.0
PRODID:-//wp-events-plugin.com//7.2.3.1//EN
TZID:Europe/Paris
X-WR-TIMEZONE:Europe/Paris
BEGIN:VEVENT
UID:12-351@conservatoire.yvetot-normandie.fr
DTSTART;TZID=Europe/Paris:20250410T203000
DTEND;TZID=Europe/Paris:20250410T213000
DTSTAMP:20250813T094419Z
URL:https://conservatoire.yvetot-normandie.fr/evenement/concert-de-la-cham
 -4/
SUMMARY:Concert de la CHAM
DESCRIPTION:Plongez dans l’univers musical de la CHAM de Seine-Maritime !
 \nTout au long de l’année\, les élèves du collège Albert Camus\, de 
 la 6ᵉ à la 3ᵉ\, vous invitent à partager leur passion à travers des
  concerts mêlant énergie\, émotion et talent.\n\nLa prestation se déro
 ulera au sein de l’Hôtel de Ville de Yvetot.
ATTACH;FMTTYPE=image/jpeg:https://www.yvetot-normandie.fr/wp-content/uploa
 ds/sites/12/2025/08/Cham-1.jpg
CATEGORIES:Conservatoire
LOCATION:Église Saint-Martin\, 40 La Rue\, Vatteville-La-Rue \, Seine Mari
 time\, 76940\, Normandie\, France
X-APPLE-STRUCTURED-LOCATION;VALUE=URI;X-ADDRESS=40 La Rue\, Vatteville-La-R
 ue \, Seine Maritime\, 76940\, Normandie\, France;X-APPLE-RADIUS=100;X-TIT
 LE=Église Saint-Martin:geo:0,0
END:VEVENT
BEGIN:VTIMEZONE
TZID:Europe/Paris
X-LIC-LOCATION:Europe/Paris
BEGIN:DAYLIGHT
DTSTART:20250330T030000
TZOFFSETFROM:+0100
TZOFFSETTO:+0200
TZNAME:CEST
END:DAYLIGHT
END:VTIMEZONE
END:VCALENDAR