BEGIN:VCALENDAR
VERSION:2.0
PRODID:-//wp-events-plugin.com//7.2.3.1//EN
TZID:Europe/Paris
X-WR-TIMEZONE:Europe/Paris
BEGIN:VEVENT
UID:12-353@conservatoire.yvetot-normandie.fr
DTSTART;TZID=Europe/Paris:20250606T203000
DTEND;TZID=Europe/Paris:20250606T213000
DTSTAMP:20250813T095513Z
URL:https://conservatoire.yvetot-normandie.fr/evenement/concert-de-la-cham
 -5/
SUMMARY:Concert de la CHAM
DESCRIPTION:Plongez dans l’univers musical de la CHAM de Seine-Maritime !
 \nTout au long de l’année\, les élèves du collège Albert Camus\, de 
 la 6ᵉ à la 3ᵉ\, vous invitent à partager leur passion à travers des
  concerts mêlant énergie\, émotion et talent.\n\nLa prestation se déro
 ulera au sein de l'église de Roquefort.
ATTACH;FMTTYPE=image/jpeg:https://www.yvetot-normandie.fr/wp-content/uploa
 ds/sites/12/2025/08/Cham-3.jpg
CATEGORIES:Conservatoire
LOCATION:Eglise Sainte Marie\, Côte de l'église\, Rocquefort\, Seine Mari
 time\, 76640\, Normandie\, France
X-APPLE-STRUCTURED-LOCATION;VALUE=URI;X-ADDRESS=Côte de l'église\, Rocque
 fort\, Seine Maritime\, 76640\, Normandie\, France;X-APPLE-RADIUS=100;X-TI
 TLE=Eglise Sainte Marie:geo:0,0
END:VEVENT
BEGIN:VTIMEZONE
TZID:Europe/Paris
X-LIC-LOCATION:Europe/Paris
BEGIN:DAYLIGHT
DTSTART:20250330T030000
TZOFFSETFROM:+0100
TZOFFSETTO:+0200
TZNAME:CEST
END:DAYLIGHT
END:VTIMEZONE
END:VCALENDAR