BEGIN:VCALENDAR
VERSION:2.0
PRODID:-//wp-events-plugin.com//7.2.3.1//EN
TZID:Europe/Paris
X-WR-TIMEZONE:Europe/Paris
BEGIN:VEVENT
UID:12-341@conservatoire.yvetot-normandie.fr
DTSTART;TZID=Europe/Paris:20251014T142000
DTEND;TZID=Europe/Paris:20251014T172000
DTSTAMP:20250813T081422Z
URL:https://conservatoire.yvetot-normandie.fr/evenement/concert-de-la-cham
 -adagio-6e-5e/
SUMMARY:Concert de la CHAM - Adagio (6e-5e)
DESCRIPTION:La CHAM de Seine-Maritime vous invite à plonger dans son unive
 rs en découvrant les chœurs des classes de 6ᵉ et 5ᵉ du collège Albe
 rt Camus.\nLe concert se tiendra aux Dames Blanches\, à Yvetot.\nL’entr
 ée est gratuite et sans réservation.
ATTACH;FMTTYPE=image/jpeg:https://www.yvetot-normandie.fr/wp-content/uploa
 ds/sites/12/2025/08/Cham-1.jpg
CATEGORIES:Conservatoire
LOCATION:Dames Blanches\, 6 rue du champ de mars \, 76190 Yvetot\, Seine Ma
 ritime\, 76190\, Normandie\, France
X-APPLE-STRUCTURED-LOCATION;VALUE=URI;X-ADDRESS=6 rue du champ de mars \, 7
 6190 Yvetot\, Seine Maritime\, 76190\, Normandie\, France;X-APPLE-RADIUS=1
 00;X-TITLE=Dames Blanches:geo:0,0
END:VEVENT
BEGIN:VTIMEZONE
TZID:Europe/Paris
X-LIC-LOCATION:Europe/Paris
BEGIN:DAYLIGHT
DTSTART:20250330T030000
TZOFFSETFROM:+0100
TZOFFSETTO:+0200
TZNAME:CEST
END:DAYLIGHT
END:VTIMEZONE
END:VCALENDAR