BEGIN:VCALENDAR
VERSION:2.0
PRODID:-//wp-events-plugin.com//7.2.3.1//EN
TZID:Europe/Paris
X-WR-TIMEZONE:Europe/Paris
BEGIN:VEVENT
UID:12-345@conservatoire.yvetot-normandie.fr
DTSTART;TZID=Europe/Paris:20251216T142000
DTEND;TZID=Europe/Paris:20251216T172000
DTSTAMP:20250813T084344Z
URL:https://conservatoire.yvetot-normandie.fr/evenement/concert-de-la-cham
 -moderato-4e-et-3e/
SUMMARY:Concert de la CHAM - Moderato (4e et 3e)
DESCRIPTION:La CHAM de Seine-Maritime vous invite à plonger dans son unive
 rs en découvrant les chœurs des classes de 4ᵉ et 3ᵉ du collège Albe
 rt Camus.\n\nTout au long de l’année\, les élèves du collège Albert 
 Camus\, de la 6ᵉ à la 3ᵉ\, vous invitent à partager leur passion à 
 travers des concerts mêlant énergie\, émotion et talent.\n\nLa prestati
 on se déroulera au sein des Dames Blanches.
ATTACH;FMTTYPE=image/jpeg:https://www.yvetot-normandie.fr/wp-content/uploa
 ds/sites/12/2025/08/Cham-3.jpg
CATEGORIES:Conservatoire
LOCATION:Dames Blanches\, 6 rue du champ de mars \, 76190 Yvetot\, Seine Ma
 ritime\, 76190\, Normandie\, France
X-APPLE-STRUCTURED-LOCATION;VALUE=URI;X-ADDRESS=6 rue du champ de mars \, 7
 6190 Yvetot\, Seine Maritime\, 76190\, Normandie\, France;X-APPLE-RADIUS=1
 00;X-TITLE=Dames Blanches:geo:0,0
END:VEVENT
BEGIN:VTIMEZONE
TZID:Europe/Paris
X-LIC-LOCATION:Europe/Paris
BEGIN:STANDARD
DTSTART:20251026T020000
TZOFFSETFROM:+0200
TZOFFSETTO:+0100
TZNAME:CET
END:STANDARD
END:VTIMEZONE
END:VCALENDAR