BEGIN:VCALENDAR
VERSION:2.0
PRODID:-//wp-events-plugin.com//7.2.3.1//EN
TZID:Europe/Paris
X-WR-TIMEZONE:Europe/Paris
BEGIN:VEVENT
UID:12-346@conservatoire.yvetot-normandie.fr
DTSTART;TZID=Europe/Paris:20251219T203000
DTEND;TZID=Europe/Paris:20251219T230000
DTSTAMP:20250813T084748Z
URL:https://conservatoire.yvetot-normandie.fr/evenement/concert-de-noel-de
 -la-cham/
SUMMARY:Concert de Noël de la CHAM
DESCRIPTION:Plongez dans l’univers musical de la CHAM de Seine-Maritime !
 Tout au long de l’année\, les élèves du collège Albert Camus\, de la
  6ᵉ à la 3ᵉ\, vous invitent à partager leur passion à travers des c
 oncerts mêlant énergie\, émotion et talent.\nLa prestation se dérouler
 a au sein des Vikings.
ATTACH;FMTTYPE=image/jpeg:https://www.yvetot-normandie.fr/wp-content/uploa
 ds/sites/12/2025/08/Cham-2.png
CATEGORIES:Conservatoire
LOCATION:Les Vikings\, Rue Pierre de Coubertin\, Yvetot\, France\, 76190\, 
 Normandie\, France
X-APPLE-STRUCTURED-LOCATION;VALUE=URI;X-ADDRESS=Rue Pierre de Coubertin\, Y
 vetot\, France\, 76190\, Normandie\, France;X-APPLE-RADIUS=100;X-TITLE=Les
  Vikings:geo:0,0
END:VEVENT
BEGIN:VTIMEZONE
TZID:Europe/Paris
X-LIC-LOCATION:Europe/Paris
BEGIN:STANDARD
DTSTART:20251026T020000
TZOFFSETFROM:+0200
TZOFFSETTO:+0100
TZNAME:CET
END:STANDARD
END:VTIMEZONE
END:VCALENDAR