BEGIN:VCALENDAR
VERSION:2.0
PRODID:-//wp-events-plugin.com//7.2.3.1//EN
TZID:Europe/Paris
X-WR-TIMEZONE:Europe/Paris
BEGIN:VEVENT
UID:12-18@conservatoire.yvetot-normandie.fr
DTSTART;TZID=Europe/Paris:20240428T000000
DTEND;TZID=Europe/Paris:20240428T000000
DTSTAMP:20230922T132754Z
URL:https://conservatoire.yvetot-normandie.fr/evenement/concert-de-percuss
 ions-dans-le-cadre-du-cosgames-show-dyvetot/
SUMMARY:Concert de Percussions dans le cadre du Cosgames Show d’Yvetot
DESCRIPTION:
END:VEVENT
BEGIN:VTIMEZONE
TZID:Europe/Paris
X-LIC-LOCATION:Europe/Paris
BEGIN:DAYLIGHT
DTSTART:20240331T030000
TZOFFSETFROM:+0100
TZOFFSETTO:+0200
TZNAME:CEST
END:DAYLIGHT
END:VTIMEZONE
END:VCALENDAR