BEGIN:VCALENDAR
VERSION:2.0
PRODID:-//wp-events-plugin.com//7.2.3.1//EN
TZID:Europe/Paris
X-WR-TIMEZONE:Europe/Paris
BEGIN:VEVENT
UID:12-340@conservatoire.yvetot-normandie.fr
DTSTART;TZID=Europe/Paris:20250630T200000
DTEND;TZID=Europe/Paris:20250630T220000
DTSTAMP:20250528T135617Z
URL:https://conservatoire.yvetot-normandie.fr/evenement/concert-en-hommage
 -a-denis-delapierre/
SUMMARY:Concert en hommage à Denis Delapierre
DESCRIPTION:C’est avec une profonde tristesse que nous avons appris le d
 écès soudain de Denis Delapierre au mois de mars\, professeur de saxopho
 ne au Conservatoire depuis plus de 40 ans. Denis avait pris sa retraite en
  septembre dernier\, laissant derrière lui des générations d’élèves
 \, des collègues profondément marqués par sa bienveillance\, et une emp
 reinte forte dans la vie musicale locale.\nAfin de lui rendre hommage et d
 e célébrer l’homme\, le pédagogue et le musicien qu’il était\, un 
 concert hommage sera organisé le lundi 30 juin. Ce moment musical réunir
 a élèves\, anciens élèves\, collègues et amis pour honorer sa mémoir
 e à travers ce qu’il aimait tant : la musique partagée.\nNous avons un
 e pensée émue pour sa femme\, ses filles\, ainsi que pour tous ceux qui 
 l’ont connu et apprécié au fil des années. Ce concert sera l’occasi
 on de nous retrouver dans la dignité\, la reconnaissance et l’émotion\
 , pour lui dire merci.
ATTACH;FMTTYPE=image/jpeg:https://www.yvetot-normandie.fr/wp-content/uploa
 ds/sites/12/2025/05/DSC01844-1-scaled.jpg
CATEGORIES:Conservatoire
LOCATION:Conservatoire Yvetot Normandie\, Rue Pierre de Coubertin\, Yvetot\
 , France\, 76190\, Normandie\, France
X-APPLE-STRUCTURED-LOCATION;VALUE=URI;X-ADDRESS=Rue Pierre de Coubertin\, Y
 vetot\, France\, 76190\, Normandie\, France;X-APPLE-RADIUS=100;X-TITLE=Con
 servatoire Yvetot Normandie:geo:0,0
END:VEVENT
BEGIN:VTIMEZONE
TZID:Europe/Paris
X-LIC-LOCATION:Europe/Paris
BEGIN:DAYLIGHT
DTSTART:20250330T030000
TZOFFSETFROM:+0100
TZOFFSETTO:+0200
TZNAME:CEST
END:DAYLIGHT
END:VTIMEZONE
END:VCALENDAR