BEGIN:VCALENDAR
VERSION:2.0
PRODID:-//wp-events-plugin.com//7.2.3.1//EN
TZID:Europe/Paris
X-WR-TIMEZONE:Europe/Paris
BEGIN:VEVENT
UID:12-17@conservatoire.yvetot-normandie.fr
DTSTART;TZID=Europe/Paris:20240417T190000
DTEND;TZID=Europe/Paris:20240417T190000
DTSTAMP:20230922T105238Z
URL:https://conservatoire.yvetot-normandie.fr/evenement/conservatoire-japo
 n-projet-de-la-classe-de-percussions-autour-de-compositeurs-et-musiques-ja
 ponaises-avec-la-participation-des-eleves-de-canteleu/
SUMMARY:conservatoire « Japon » projet de la classe de percussions autour
  de compositeurs et musiques Japonaises. Avec la participation des élève
 s de Canteleu
DESCRIPTION:
END:VEVENT
BEGIN:VTIMEZONE
TZID:Europe/Paris
X-LIC-LOCATION:Europe/Paris
BEGIN:DAYLIGHT
DTSTART:20240331T030000
TZOFFSETFROM:+0100
TZOFFSETTO:+0200
TZNAME:CEST
END:DAYLIGHT
END:VTIMEZONE
END:VCALENDAR