BEGIN:VCALENDAR
VERSION:2.0
PRODID:-//wp-events-plugin.com//7.2.3.1//EN
TZID:Europe/Paris
X-WR-TIMEZONE:Europe/Paris
BEGIN:VEVENT
UID:12-11@conservatoire.yvetot-normandie.fr
DTSTART;TZID=Europe/Paris:20231209T183000
DTEND;TZID=Europe/Paris:20231209T183000
DTSTAMP:20230922T140433Z
URL:https://conservatoire.yvetot-normandie.fr/evenement/duo-violon-guitare
 /
SUMMARY:DUO VIOLON / GUITARE
DESCRIPTION:Le temps d’une soirée\, ces deux musiciens vous proposent un
  programme très varié\, traversant les époques\, les genres musicaux et
  puisant leur inspiration dans les cinq continents. De Telemann au tango a
 rgentin en passant par les Beatles et Schubert\, ils nous prouvent qu’à
  l’aube du XXI ème siècle\, les frontières musicales entre musique cl
 assique\, musique du monde\, musique moderne et contemporaine ou jazz\, n
 ’existent quasiment plus. Pour eux\, la musique s’inscrit dans un seul
  et unique univers.\n\n&nbsp\;\n\nTarif Plein: 6€\n\nMoins de 18 ans\, 
 étudiants ...: 3.5€\n\nElèves du Conservatoire: 3€\n\n&nbsp\;\n\nTic
 ket à retirer aux horaires du secrétariat à partir du 27 Novembre 2023 
 ou le soir de l'évènement.
END:VEVENT
BEGIN:VTIMEZONE
TZID:Europe/Paris
X-LIC-LOCATION:Europe/Paris
BEGIN:STANDARD
DTSTART:20231029T020000
TZOFFSETFROM:+0200
TZOFFSETTO:+0100
TZNAME:CET
END:STANDARD
END:VTIMEZONE
END:VCALENDAR