BEGIN:VCALENDAR
VERSION:2.0
PRODID:-//wp-events-plugin.com//7.2.3.1//EN
TZID:Europe/Paris
X-WR-TIMEZONE:Europe/Paris
BEGIN:VEVENT
UID:12-334@conservatoire.yvetot-normandie.fr
DTSTART;TZID=Europe/Paris:20250621T150000
DTEND;TZID=Europe/Paris:20250621T160000
DTSTAMP:20250527T144501Z
URL:https://conservatoire.yvetot-normandie.fr/evenement/fete-de-la-musique
 /
SUMMARY:Fête de la musique
DESCRIPTION:Le Conservatoire Yvetot Normandie fête la musique !\nDans le c
 adre de la Fête de la Musique organisée par la Ville de Yvetot\, le Cons
 ervatoire de musique Yvetot Normandie est heureux de participer à cet év
 énement festif.\nÀ cette occasion\, Yuna Oguri\, professeure de saxophon
 e\, vous propose un moment musical animé par ses ensembles et orchestres\
 , qui se produiront devant l'Office de Tourisme Yvetot Normandie (8\, plac
 e du Maréchal Joffre).\nAu programme :Un répertoire varié et entraînan
 t\, allant de la pop au rock\, avec des titres emblématiques comme Bohemi
 an Rhapsody de Queen\, ainsi que des morceaux issus de la musique japonais
 e.\nVous trouverez l’ensemble du programme de la Fête de la Musique en 
 suivant le lien ci-dessous :\nYvetot.fr | Site officiel de la Ville d'Yvet
 ot. Fil Infos - Actualités - Conseil Municipal - Mairie - Cadre de vie - 
 Enfance et jeunesse - Sports et loisirs - Solidarité et santé - Culture 
 et patrimoine
ATTACH;FMTTYPE=image/jpeg:https://www.yvetot-normandie.fr/wp-content/uploa
 ds/sites/12/2025/05/Image-47-scaled.jpg
CATEGORIES:Conservatoire
LOCATION:Office du tourisme\, 8\, place du Maréchal Joffre\, Yvetot\, Fran
 ce\, 76190\, Normandie\, France
X-APPLE-STRUCTURED-LOCATION;VALUE=URI;X-ADDRESS=8\, place du Maréchal Joff
 re\, Yvetot\, France\, 76190\, Normandie\, France;X-APPLE-RADIUS=100;X-TIT
 LE=Office du tourisme:geo:0,0
END:VEVENT
BEGIN:VTIMEZONE
TZID:Europe/Paris
X-LIC-LOCATION:Europe/Paris
BEGIN:DAYLIGHT
DTSTART:20250330T030000
TZOFFSETFROM:+0100
TZOFFSETTO:+0200
TZNAME:CEST
END:DAYLIGHT
END:VTIMEZONE
END:VCALENDAR