BEGIN:VCALENDAR
VERSION:2.0
PRODID:-//wp-events-plugin.com//7.2.3.1//EN
TZID:Europe/Paris
X-WR-TIMEZONE:Europe/Paris
BEGIN:VEVENT
UID:12-332@conservatoire.yvetot-normandie.fr
DTSTART;TZID=Europe/Paris:20250621T100000
DTEND;TZID=Europe/Paris:20250621T120000
DTSTAMP:20250610T152338Z
URL:https://conservatoire.yvetot-normandie.fr/evenement/petit-dejeuner-mus
 ical/
SUMMARY:Petit déjeuner musical
DESCRIPTION:Le conservatoire de musique vous invite à un petit déjeuner m
 usical convivial\, où les notes s’accorderont à merveille avec l’ode
 ur des viennoiseries fraîches. Venez savourer un moment de détente\, d
 ’écoute et de partage autour de performances musicales proposées par n
 os élèves et professeurs.\n🎶 Musique 🥐 Viennoiseries\, jus et fru
 its ☀️ Ambiance chaleureuse et matinale\nRendez-vous dès 10h au cons
 ervatoire pour ce doux réveil en musique !
ATTACH;FMTTYPE=image/jpeg:https://www.yvetot-normandie.fr/wp-content/uploa
 ds/sites/12/2025/05/image-2-scaled.jpg
CATEGORIES:Conservatoire
LOCATION:Conservatoire Yvetot Normandie\, Rue Pierre de Coubertin\, Yvetot\
 , France\, 76190\, Normandie\, France
X-APPLE-STRUCTURED-LOCATION;VALUE=URI;X-ADDRESS=Rue Pierre de Coubertin\, Y
 vetot\, France\, 76190\, Normandie\, France;X-APPLE-RADIUS=100;X-TITLE=Con
 servatoire Yvetot Normandie:geo:0,0
END:VEVENT
BEGIN:VTIMEZONE
TZID:Europe/Paris
X-LIC-LOCATION:Europe/Paris
BEGIN:DAYLIGHT
DTSTART:20250330T030000
TZOFFSETFROM:+0100
TZOFFSETTO:+0200
TZNAME:CEST
END:DAYLIGHT
END:VTIMEZONE
END:VCALENDAR