BEGIN:VCALENDAR
VERSION:2.0
PRODID:-//wp-events-plugin.com//7.2.3.1//EN
TZID:Europe/Paris
X-WR-TIMEZONE:Europe/Paris
BEGIN:VEVENT
UID:12-335@conservatoire.yvetot-normandie.fr
DTSTART;TZID=Europe/Paris:20250628T180000
DTEND;TZID=Europe/Paris:20250628T190000
DTSTAMP:20250528T133054Z
URL:https://conservatoire.yvetot-normandie.fr/evenement/rassemblement-haut
 bois-bassons/
SUMMARY:Rassemblement hautbois/bassons
DESCRIPTION:Concert Inter-Classes à la Bergerie de Sotteville-sur-Mer\nCe 
 concert est une rencontre inter-classes réunissant des élèves de tous 
 âges\, des plus jeunes aux plus expérimentés\, dans un esprit de partag
 e\, de collaboration et d’amitié. Organisé de longue date par Alexandr
 e Vandamme (basson) et son équipe\, cet événement met en valeur l’uni
 on entre les différents conservatoires : Yvetot\, Caux Seine\, Dieppe et 
 Côte d’Albâtre.\nAu programme :\n\n\n 	Un medley magique de Harry Pott
 er\n 	Des airs traditionnels irlandais\n 	Des pièces baroques envoûtante
 s…et bien d’autres surprises musicales !\n\nUn concert où la passion 
 et la convivialité sont au rendez-vous\, pour le plus grand plaisir des s
 pectateurs.\nLe concert est gratuit et sans réservation.
ATTACH;FMTTYPE=image/jpeg:https://www.yvetot-normandie.fr/wp-content/uploa
 ds/sites/12/2025/02/DSC03166-scaled.jpg
CATEGORIES:Conservatoire
END:VEVENT
BEGIN:VTIMEZONE
TZID:Europe/Paris
X-LIC-LOCATION:Europe/Paris
BEGIN:DAYLIGHT
DTSTART:20250330T030000
TZOFFSETFROM:+0100
TZOFFSETTO:+0200
TZNAME:CEST
END:DAYLIGHT
END:VTIMEZONE
END:VCALENDAR