BEGIN:VCALENDAR
VERSION:2.0
PRODID:-//wp-events-plugin.com//7.2.3.1//EN
TZID:Europe/Paris
X-WR-TIMEZONE:Europe/Paris
BEGIN:VEVENT
UID:12-323@conservatoire.yvetot-normandie.fr
DTSTART;TZID=Europe/Paris:20250615T113000
DTEND;TZID=Europe/Paris:20250615T123000
DTSTAMP:20250512T090641Z
URL:https://conservatoire.yvetot-normandie.fr/evenement/rassemblement-saxo
 phone/
SUMMARY:Rassemblement saxophone
DESCRIPTION:Les classes de saxophone de Seine-Maritime vous donnent rendez-
 vous à Sotteville\, pour un concert organisé par l'École de Musique de 
 Sotteville.\n\nVenez profiter d’un moment musical en plein air sur la pl
 ace de l’Hôtel de Ville\, autour du thème SaxoCité\, en écho à Viva
 Cité\, le grand festival de jazz qui débutera le 15 juin à Sotteville.\
 n\nConcert gratuit et sans réservation.
ATTACH;FMTTYPE=image/jpeg:https://www.yvetot-normandie.fr/wp-content/uploa
 ds/sites/12/2025/05/DSC03159-scaled.jpg
CATEGORIES:Conservatoire
END:VEVENT
BEGIN:VTIMEZONE
TZID:Europe/Paris
X-LIC-LOCATION:Europe/Paris
BEGIN:DAYLIGHT
DTSTART:20250330T030000
TZOFFSETFROM:+0100
TZOFFSETTO:+0200
TZNAME:CEST
END:DAYLIGHT
END:VTIMEZONE
END:VCALENDAR