BEGIN:VCALENDAR
VERSION:2.0
PRODID:-//wp-events-plugin.com//7.2.3.1//EN
TZID:Europe/Paris
X-WR-TIMEZONE:Europe/Paris
BEGIN:VEVENT
UID:12-324@conservatoire.yvetot-normandie.fr
DTSTART;TZID=Europe/Paris:20250619T180000
DTEND;TZID=Europe/Paris:20250619T190000
DTSTAMP:20250512T092850Z
URL:https://conservatoire.yvetot-normandie.fr/evenement/soiree-ccas-avec-l
 e-big-band/
SUMMARY:Soirée CCAS avec le Big-Band
DESCRIPTION:Composé de musiciens amateurs éclairés et passionnés de jaz
 z\, le big-band du conservatoire Yvetot Normandie rayonne sur le territoir
 e Normand depuis plus de 20 ans maintenant.\n\nFormation d'excellence du c
 onservatoire\, formation par essence pédagogique\, le Big-band a vocation
  dans ses missions\, de former les jeunes élèves ayant déjà un excelle
 nt niveau de pratique instrumentale.\n\nJeunes élèves désireux de prati
 quer et faire fructifier leurs connaissances musicales et leur niveau de p
 ratique individuelle en ensemble de jazz.\n\nGrace à une approche éclect
 ique dans son répertoire\, le big-band propose une découverte des diffé
 rents styles et esthétiques qui composent le répertoire du Jazz.\n\nCe v
 oyage musical\, permet à tout un chacun de découvrir ou de redécouvrir 
 les morceaux tant entendus mais\, paradoxalement\, parfois tant méconnus 
 du répertoire Jazz.\n\nDes standards du swing au jazz rock\, en passant p
 ar le funk\, les musiques latines mais aussi les grands standards du répe
 rtoire vocal\, le public découvre toute l'étendue qu'il est possible de 
 jouer dans une grande formation jazz comme le big-band.\n\nCe qui fait la 
 longévité de cet ensemble est notamment son caractère intergénération
 nel\, son approche à la fois exigeante mais bienveillante\, où chacun tr
 ouve sa place et s'épanouit musicalement dans la bonne humeur\, le tout\,
  placé sous la baguette d'Arnaud Baligout.\n\nLe concert est gratuit et s
 ans réservation.
ATTACH;FMTTYPE=image/jpeg:https://www.yvetot-normandie.fr/wp-content/uploa
 ds/sites/12/2025/05/DSC02353-scaled.jpg
CATEGORIES:Conservatoire
LOCATION:Salle du vieux moulin\, 49 Rue de l'étang\, 76190 Yvetot\, Seine 
 Maritime \, 76190\, Normandie\, France
X-APPLE-STRUCTURED-LOCATION;VALUE=URI;X-ADDRESS=49 Rue de l'étang\, 76190 
 Yvetot\, Seine Maritime \, 76190\, Normandie\, France;X-APPLE-RADIUS=100;X
 -TITLE=Salle du vieux moulin:geo:0,0
END:VEVENT
BEGIN:VTIMEZONE
TZID:Europe/Paris
X-LIC-LOCATION:Europe/Paris
BEGIN:DAYLIGHT
DTSTART:20250330T030000
TZOFFSETFROM:+0100
TZOFFSETTO:+0200
TZNAME:CEST
END:DAYLIGHT
END:VTIMEZONE
END:VCALENDAR